BEGIN:VCALENDAR
VERSION:2.0
PRODID:-//Scranton JCC - ECPv6.15.20//NONSGML v1.0//EN
CALSCALE:GREGORIAN
METHOD:PUBLISH
X-WR-CALNAME:Scranton JCC
X-ORIGINAL-URL:https://scrantonjcc.org
X-WR-CALDESC:Events for Scranton JCC
REFRESH-INTERVAL;VALUE=DURATION:PT1H
X-Robots-Tag:noindex
X-PUBLISHED-TTL:PT1H
BEGIN:VTIMEZONE
TZID:UTC
BEGIN:STANDARD
TZOFFSETFROM:+0000
TZOFFSETTO:+0000
TZNAME:UTC
DTSTART:20250101T000000
END:STANDARD
END:VTIMEZONE
BEGIN:VEVENT
DTSTART;TZID=UTC:20260301T120000
DTEND;TZID=UTC:20260301T140000
DTSTAMP:20260423T232511
CREATED:20260203T012453Z
LAST-MODIFIED:20260203T012453Z
UID:25672-1772366400-1772373600@scrantonjcc.org
SUMMARY:Zootopia Purim Carnival
DESCRIPTION:
URL:https://scrantonjcc.org/event/zootopia-purim-carnival/
LOCATION:JCC\, 601 Jefferson Ave\, Scranton\, PA\, 18510\, United States
CATEGORIES:Event
ATTACH;FMTTYPE=image/png:https://scrantonjcc.org/wp-content/uploads/2026/02/JCC-Purim.png
END:VEVENT
END:VCALENDAR