BEGIN:VCALENDAR
VERSION:2.0
PRODID:-//Scranton JCC - ECPv6.15.20//NONSGML v1.0//EN
CALSCALE:GREGORIAN
METHOD:PUBLISH
X-WR-CALNAME:Scranton JCC
X-ORIGINAL-URL:https://scrantonjcc.org
X-WR-CALDESC:Events for Scranton JCC
REFRESH-INTERVAL;VALUE=DURATION:PT1H
X-Robots-Tag:noindex
X-PUBLISHED-TTL:PT1H
BEGIN:VTIMEZONE
TZID:UTC
BEGIN:STANDARD
TZOFFSETFROM:+0000
TZOFFSETTO:+0000
TZNAME:UTC
DTSTART:20240101T000000
END:STANDARD
END:VTIMEZONE
BEGIN:VEVENT
DTSTART;TZID=UTC:20251115T190000
DTEND;TZID=UTC:20251115T210000
DTSTAMP:20260424T031226
CREATED:20251029T020024Z
LAST-MODIFIED:20251029T020127Z
UID:25394-1763233200-1763240400@scrantonjcc.org
SUMMARY:Flick N Float | Camp Reunion
DESCRIPTION:Camp Reunion Flick & Float (7–9 PM) — Splash back with your camp friends for a movie by the pool! Kids\, don’t forget your suits and towels. 2025 campers: FREE. Guests: $15/person.  \nRSVP Required
URL:https://scrantonjcc.org/event/flick-n-float-camp-reunion/
LOCATION:Scranton JCC\, 601 Jefferson Avenue\, Scranton\, PA\, 18510\, United States
CATEGORIES:Event
ATTACH;FMTTYPE=image/png:https://scrantonjcc.org/wp-content/uploads/2025/10/JCC-Programs-Fall-2025-3.png
END:VEVENT
END:VCALENDAR