BEGIN:VCALENDAR
VERSION:2.0
PRODID:-//Scranton JCC - ECPv6.15.20//NONSGML v1.0//EN
CALSCALE:GREGORIAN
METHOD:PUBLISH
X-WR-CALNAME:Scranton JCC
X-ORIGINAL-URL:https://scrantonjcc.org
X-WR-CALDESC:Events for Scranton JCC
REFRESH-INTERVAL;VALUE=DURATION:PT1H
X-Robots-Tag:noindex
X-PUBLISHED-TTL:PT1H
BEGIN:VTIMEZONE
TZID:UTC
BEGIN:STANDARD
TZOFFSETFROM:+0000
TZOFFSETTO:+0000
TZNAME:UTC
DTSTART:20250101T000000
END:STANDARD
END:VTIMEZONE
BEGIN:VEVENT
DTSTART;TZID=UTC:20260414T183000
DTEND;TZID=UTC:20260415T193000
DTSTAMP:20260423T221040
CREATED:20210312T195942Z
LAST-MODIFIED:20250616T210403Z
UID:21540-1776191400-1776281400@scrantonjcc.org
SUMMARY:Yom HaShoah | Holocaust Remembrance Day
DESCRIPTION:The JCC is Open. \n  \n 
URL:https://scrantonjcc.org/event/yom-hashoah-holocaust-remembrance-day-commemoration/
LOCATION:Scranton JCC\, 601 Jefferson Avenue\, Scranton\, PA\, 18510\, United States
CATEGORIES:Event,Jewish Holidays
ATTACH;FMTTYPE=image/png:https://scrantonjcc.org/wp-content/uploads/2021/03/FB-Post-Yom-HaShoah.png
END:VEVENT
END:VCALENDAR