BEGIN:VCALENDAR
VERSION:2.0
PRODID:-//Scranton JCC - ECPv6.15.20//NONSGML v1.0//EN
CALSCALE:GREGORIAN
METHOD:PUBLISH
X-ORIGINAL-URL:https://scrantonjcc.org
X-WR-CALDESC:Events for Scranton JCC
REFRESH-INTERVAL;VALUE=DURATION:PT1H
X-Robots-Tag:noindex
X-PUBLISHED-TTL:PT1H
BEGIN:VTIMEZONE
TZID:UTC
BEGIN:STANDARD
TZOFFSETFROM:+0000
TZOFFSETTO:+0000
TZNAME:UTC
DTSTART:20250101T000000
END:STANDARD
END:VTIMEZONE
BEGIN:VEVENT
DTSTART;TZID=UTC:20261224T053000
DTEND;TZID=UTC:20261224T130000
DTSTAMP:20260423T203749
CREATED:20160920T013206Z
LAST-MODIFIED:20260106T205619Z
UID:18627-1798090200-1798117200@scrantonjcc.org
SUMMARY:Christmas Eve (Early Closing)
DESCRIPTION:The JCC is open 5.30am – 1pm.
URL:https://scrantonjcc.org/event/christmas-eve/
CATEGORIES:JCC Hours / Closings
ATTACH;FMTTYPE=image/png:https://scrantonjcc.org/wp-content/uploads/2016/09/NEW-at-the-J-Baby-Me-Swim-Fall-2022-1800-×-1800-px-1.png
END:VEVENT
BEGIN:VEVENT
DTSTART;TZID=UTC:20261231T053000
DTEND;TZID=UTC:20261231T130000
DTSTAMP:20260423T203749
CREATED:20160920T145201Z
LAST-MODIFIED:20260106T205449Z
UID:18637-1798695000-1798722000@scrantonjcc.org
SUMMARY:New Year's Eve
DESCRIPTION:Wishing our members and community a very happy and healthy new year! \nThe JCC is open from 5:30 AM – 1:00 PM.
URL:https://scrantonjcc.org/event/new-years-eve/
CATEGORIES:Holiday Schedule,JCC Hours / Closings,National Holidays
END:VEVENT
END:VCALENDAR