BEGIN:VCALENDAR
VERSION:2.0
PRODID:-//Scranton JCC - ECPv6.15.20//NONSGML v1.0//EN
CALSCALE:GREGORIAN
METHOD:PUBLISH
X-WR-CALNAME:Scranton JCC
X-ORIGINAL-URL:https://scrantonjcc.org
X-WR-CALDESC:Events for Scranton JCC
REFRESH-INTERVAL;VALUE=DURATION:PT1H
X-Robots-Tag:noindex
X-PUBLISHED-TTL:PT1H
BEGIN:VTIMEZONE
TZID:UTC
BEGIN:STANDARD
TZOFFSETFROM:+0000
TZOFFSETTO:+0000
TZNAME:UTC
DTSTART:20220101T000000
END:STANDARD
END:VTIMEZONE
BEGIN:VEVENT
DTSTART;VALUE=DATE:20260303
DTEND;VALUE=DATE:20260304
DTSTAMP:20260423T165802
CREATED:20220316T214135Z
LAST-MODIFIED:20250616T203912Z
UID:18802-1772496000-1772582399@scrantonjcc.org
SUMMARY:Purim
DESCRIPTION:The JCC is open.
URL:https://scrantonjcc.org/event/purim/
CATEGORIES:Holiday Schedule,JCC Hours / Closings,Jewish Holidays
ATTACH;FMTTYPE=image/png:https://scrantonjcc.org/wp-content/uploads/2017/01/purim.png
END:VEVENT
BEGIN:VEVENT
DTSTART;TZID=UTC:20260301T120000
DTEND;TZID=UTC:20260301T140000
DTSTAMP:20260423T165802
CREATED:20260203T012453Z
LAST-MODIFIED:20260203T012453Z
UID:25672-1772366400-1772373600@scrantonjcc.org
SUMMARY:Zootopia Purim Carnival
DESCRIPTION:
URL:https://scrantonjcc.org/event/zootopia-purim-carnival/
LOCATION:JCC\, 601 Jefferson Ave\, Scranton\, PA\, 18510\, United States
CATEGORIES:Event
ATTACH;FMTTYPE=image/png:https://scrantonjcc.org/wp-content/uploads/2026/02/JCC-Purim.png
END:VEVENT
BEGIN:VEVENT
DTSTART;VALUE=DATE:20260216
DTEND;VALUE=DATE:20260217
DTSTAMP:20260423T165802
CREATED:20170101T213943Z
LAST-MODIFIED:20250616T203836Z
UID:18799-1771200000-1771286399@scrantonjcc.org
SUMMARY:President's Day
DESCRIPTION:The JCC is open.
URL:https://scrantonjcc.org/event/presidents-day/
CATEGORIES:Holiday Schedule,JCC Hours / Closings,National Holidays
ATTACH;FMTTYPE=image/jpeg:https://scrantonjcc.org/wp-content/uploads/2017/01/presday.jpg
END:VEVENT
BEGIN:VEVENT
DTSTART;VALUE=DATE:20260202
DTEND;VALUE=DATE:20260203
DTSTAMP:20260423T165802
CREATED:20170101T213710Z
LAST-MODIFIED:20250616T203746Z
UID:18796-1769990400-1770076799@scrantonjcc.org
SUMMARY:Tu'Bshevat
DESCRIPTION:The JCC is open.
URL:https://scrantonjcc.org/event/tubshevat/
CATEGORIES:Holiday Schedule,JCC Hours / Closings,Jewish Holidays
ATTACH;FMTTYPE=image/jpeg:https://scrantonjcc.org/wp-content/uploads/2017/01/tu-bishvat.jpg
END:VEVENT
BEGIN:VEVENT
DTSTART;TZID=UTC:20260118T110000
DTEND;TZID=UTC:20260118T130000
DTSTAMP:20260423T165802
CREATED:20260102T173519Z
LAST-MODIFIED:20260102T173519Z
UID:25546-1768734000-1768741200@scrantonjcc.org
SUMMARY:JCC OPEN HOUSE
DESCRIPTION:🎉 Open House • Sunday\, January 18 | 11–1\nCurious about membership?Come see what we’re all about at our Open House! \n✔️ Tour the facility✔️ Prizes & giveaways✔️ Special membership deals✔️ Meet our team \nMembership includes FREE group exercise classes\, access to our fitness center & indoor pool\, free youth programs\, and discounts on swim lessons\, camp tuition\, and more. \nBring the family\, ask questions\, and explore at your own pace.No pressure—just a warm welcome. \n👉 Stop by January 18 from 11–1. We’d love to see you!
URL:https://scrantonjcc.org/event/jcc-open-house/
LOCATION:Scranton JCC\, 601 Jefferson Avenue\, Scranton\, PA\, 18510\, United States
CATEGORIES:Event
ATTACH;FMTTYPE=image/jpeg:https://scrantonjcc.org/wp-content/uploads/2026/01/3.jpg
END:VEVENT
BEGIN:VEVENT
DTSTART;TZID=UTC:20251214T130000
DTEND;TZID=UTC:20251214T153000
DTSTAMP:20260423T165802
CREATED:20251118T182613Z
LAST-MODIFIED:20251118T182613Z
UID:25431-1765717200-1765726200@scrantonjcc.org
SUMMARY:Chanukah Festival
DESCRIPTION:Join us for our annual Steven Bruce Arenberg Memorial SUPER HERO Chanukah Festival \nFree Event! Fun for the whole family. \nLatke Bar | Ice Cream Bar | Donut Decorating Contest | Popcorn | Olive Press | EJ the DJ | Face Painting | Balloon Artist | Chanukah Crafts | Candle Making \nSponsors: Foundation for the Jewish Elderly of EPA | Race West | SB Arenberg Fund
URL:https://scrantonjcc.org/event/chanukah-festival/
LOCATION:Scranton JCC\, 601 Jefferson Avenue\, Scranton\, PA\, 18510\, United States
CATEGORIES:Event
ATTACH;FMTTYPE=image/png:https://scrantonjcc.org/wp-content/uploads/2025/11/JCC-Chanukah-Festival-Publicity-Final-.png
END:VEVENT
BEGIN:VEVENT
DTSTART;TZID=UTC:20251115T190000
DTEND;TZID=UTC:20251115T210000
DTSTAMP:20260423T165802
CREATED:20251029T020024Z
LAST-MODIFIED:20251029T020127Z
UID:25394-1763233200-1763240400@scrantonjcc.org
SUMMARY:Flick N Float | Camp Reunion
DESCRIPTION:Camp Reunion Flick & Float (7–9 PM) — Splash back with your camp friends for a movie by the pool! Kids\, don’t forget your suits and towels. 2025 campers: FREE. Guests: $15/person.  \nRSVP Required
URL:https://scrantonjcc.org/event/flick-n-float-camp-reunion/
LOCATION:Scranton JCC\, 601 Jefferson Avenue\, Scranton\, PA\, 18510\, United States
CATEGORIES:Event
ATTACH;FMTTYPE=image/png:https://scrantonjcc.org/wp-content/uploads/2025/10/JCC-Programs-Fall-2025-3.png
END:VEVENT
BEGIN:VEVENT
DTSTART;TZID=UTC:20250618T173000
DTEND;TZID=UTC:20250618T183000
DTSTAMP:20260423T165802
CREATED:20240515T144650Z
LAST-MODIFIED:20250616T201939Z
UID:23753-1750267800-1750271400@scrantonjcc.org
SUMMARY:JCC Annual Meeting
DESCRIPTION:All JCC Members are invited to our Annual Meeting & Board Installation\, and to honor the amazing JCC staff for their service.
URL:https://scrantonjcc.org/event/jcc-annual-meeting/
LOCATION:Scranton JCC\, 601 Jefferson Avenue\, Scranton\, PA\, 18510\, United States
CATEGORIES:Event
ATTACH;FMTTYPE=image/png:https://scrantonjcc.org/wp-content/uploads/2024/05/jcc-board.png
END:VEVENT
BEGIN:VEVENT
DTSTART;TZID=UTC:20250423T183000
DTEND;TZID=UTC:20250423T203000
DTSTAMP:20260423T165802
CREATED:20170101T215136Z
LAST-MODIFIED:20250405T182250Z
UID:18816-1745433000-1745440200@scrantonjcc.org
SUMMARY:Yom HaShoah Program
DESCRIPTION:Yom HaShoah V’Hagvurah \nHolocaust & Heroism Remembrance Ceremony & Film \nFeature Film: RESISTANCE: They Fought Back!
URL:https://scrantonjcc.org/event/yom-hashoah-holocaust-remembrance-day/
LOCATION:Scranton JCC\, 601 Jefferson Avenue\, Scranton\, PA\, 18510\, United States
CATEGORIES:Event,Jewish Holidays
ATTACH;FMTTYPE=image/png:https://scrantonjcc.org/wp-content/uploads/2017/01/Yom-Hashoah-Flyer-2025-April-23-1.png
END:VEVENT
BEGIN:VEVENT
DTSTART;TZID=UTC:20250309T130000
DTEND;TZID=UTC:20250309T153000
DTSTAMP:20260423T165802
CREATED:20220211T214409Z
LAST-MODIFIED:20250208T180005Z
UID:22221-1741525200-1741534200@scrantonjcc.org
SUMMARY:Purim Carnival
DESCRIPTION:EVERYONE is INVITED to this FREE\, COMMUNITY EVENT! \nNEW! Check out Queen Esther’s Crafty Palace \nJoin us to celebrate Purim with a FREE LEGO-themed – carnival-style event: games & prizes\, bumper cars\, LEGO crafts\, face painting\, balloon artist\, bounce house\, glatt kosher hot dogs\, popcorn\, Hamentaschen\, EJ the DJ and more!
URL:https://scrantonjcc.org/event/purim-carnival/
LOCATION:Scranton JCC\, 601 Jefferson Avenue\, Scranton\, PA\, 18510\, United States
CATEGORIES:Event
ATTACH;FMTTYPE=image/png:https://scrantonjcc.org/wp-content/uploads/2022/02/Purim-Instagram-4.png
END:VEVENT
BEGIN:VEVENT
DTSTART;TZID=UTC:20250126T150000
DTEND;TZID=UTC:20250126T160000
DTSTAMP:20260423T165802
CREATED:20240103T025536Z
LAST-MODIFIED:20250106T204546Z
UID:23457-1737903600-1737907200@scrantonjcc.org
SUMMARY:Night of 1\,000 Meatballs V | Pasta to Go
DESCRIPTION:It’s our 5th Annual Night of a 1000 Meatballs – Pasta to Go Fundraiser benefitting JCC Camp Daleville! \nPlace your orders by January 22 and pick it up at the Scranton JCC between 3:00 & 4:00 PM on Sunday\, January 26! \nTake out pasta dinner benefitting JCC Camp Daleville. \nPasta\, meatballs\, salad\, bread\, and dessert. $15 per person | supervised kosher \nOrder by 1/22;  https://www.signupgenius.com/go/70A044CAFAA2EA7F58-54189025-night \n  \n 
URL:https://scrantonjcc.org/event/night-of-1000-meatballs-iv-pasta-to-go/
LOCATION:Scranton JCC\, 601 Jefferson Avenue\, Scranton\, PA\, 18510\, United States
CATEGORIES:Event
ATTACH;FMTTYPE=image/png:https://scrantonjcc.org/wp-content/uploads/2024/01/A-Night-of-a-Thousand-Meatballs-V-Updated-Flyer-version-3.png
END:VEVENT
BEGIN:VEVENT
DTSTART;TZID=UTC:20241229T130000
DTEND;TZID=UTC:20241229T160000
DTSTAMP:20260423T165802
CREATED:20211015T163953Z
LAST-MODIFIED:20241204T214806Z
UID:21895-1735477200-1735488000@scrantonjcc.org
SUMMARY:Chanukah Festival at the JCC
DESCRIPTION:You’re invited to join us for our 4th annual Steven Bruce Arenberg Memorial \nCHANUKAH FESTIVAL at the Scranton JCC! \n  \nFREE ADMISSION | Everyone in the Community is Welcome to Attend \nFREE FOOD: Hot Dogs\, French Fries\, Donuts\, Latkes\, Popcorn \nFEATURING: Meadow Perry – Bubble Magician \nFREE ACTIVITIES: Bumper Cars\, Photo Booth\, Live Music by Nachas\, Chanukah Arts & Crafts\, Balloon Artist\, Olive  Press & More! \n  \nThank you to our sponsors: Race-West\, PA Paper\, and Foundation for the Jewish Elderly of Eastern PA 
URL:https://scrantonjcc.org/event/chanukah-street-festival/
LOCATION:Scranton JCC\, 601 Jefferson Avenue\, Scranton\, PA\, 18510\, United States
CATEGORIES:Event
END:VEVENT
BEGIN:VEVENT
DTSTART;TZID=UTC:20240603T100000
DTEND;TZID=UTC:20240603T190000
DTSTAMP:20260423T165802
CREATED:20220331T185731Z
LAST-MODIFIED:20230907T022348Z
UID:22346-1717408800-1717441200@scrantonjcc.org
SUMMARY:Eugene and Dorothy Rosenstein Memorial Golf Tournament
DESCRIPTION:Contact Vince for more information.
URL:https://scrantonjcc.org/event/eugene-and-dorothy-rosenstein-memorial-golf-tournament/
CATEGORIES:Event
ATTACH;FMTTYPE=image/png:https://scrantonjcc.org/wp-content/uploads/2022/03/rosenstein-memorial-childrens-benefit-golf-tournament.png
END:VEVENT
BEGIN:VEVENT
DTSTART;TZID=UTC:20230129T140000
DTEND;TZID=UTC:20230129T160000
DTSTAMP:20260423T165802
CREATED:20211221T201111Z
LAST-MODIFIED:20221212T214336Z
UID:22117-1675000800-1675008000@scrantonjcc.org
SUMMARY:Pasta-to-Go
DESCRIPTION:Why Cook & Clean-Up When You Can Grab a Pasta Dinner To-Go!?!\nAnd\, you’ll be supporting a great cause\, JCC Camp Daleville\, a community where children come first!\n\nPICK UP: Sunday\, January 29\, 2023 from 2-4pm at the Scranton JCC\n\nMENU: Spaghetti & Meatballs | Salad | Bread | Dessert\n$12/dinner\n\nPLACE YOUR ORDER\nOrder deadline: Wednesday\, January 25\, 2023.
URL:https://scrantonjcc.org/event/pasta-to-go/
LOCATION:Scranton JCC Parking Lot\, 601 Jefferson Avenue\, Scranton\, PA\, 18510\, United States
CATEGORIES:Event
END:VEVENT
END:VCALENDAR