BEGIN:VCALENDAR
VERSION:2.0
PRODID:-//Scranton JCC - ECPv6.15.20//NONSGML v1.0//EN
CALSCALE:GREGORIAN
METHOD:PUBLISH
X-ORIGINAL-URL:https://scrantonjcc.org
X-WR-CALDESC:Events for Scranton JCC
REFRESH-INTERVAL;VALUE=DURATION:PT1H
X-Robots-Tag:noindex
X-PUBLISHED-TTL:PT1H
BEGIN:VTIMEZONE
TZID:UTC
BEGIN:STANDARD
TZOFFSETFROM:+0000
TZOFFSETTO:+0000
TZNAME:UTC
DTSTART:20250101T000000
END:STANDARD
END:VTIMEZONE
BEGIN:VEVENT
DTSTART;VALUE=DATE:20261205
DTEND;VALUE=DATE:20261214
DTSTAMP:20260423T223930
CREATED:20160920T013707Z
LAST-MODIFIED:20260106T205751Z
UID:18632-1796428800-1797206399@scrantonjcc.org
SUMMARY:Chanukah
DESCRIPTION:The JCC is open for regular hours during Chanukah. \n 
URL:https://scrantonjcc.org/event/chanukah/
LOCATION:PA
CATEGORIES:Holiday Schedule,JCC Hours / Closings,Jewish Holidays,National Holidays
ATTACH;FMTTYPE=image/png:https://scrantonjcc.org/wp-content/uploads/2016/09/Happy-Thanksgiving-2.png
END:VEVENT
END:VCALENDAR