BEGIN:VCALENDAR
VERSION:2.0
PRODID:-//Scranton JCC - ECPv6.15.20//NONSGML v1.0//EN
CALSCALE:GREGORIAN
METHOD:PUBLISH
X-ORIGINAL-URL:https://scrantonjcc.org
X-WR-CALDESC:Events for Scranton JCC
REFRESH-INTERVAL;VALUE=DURATION:PT1H
X-Robots-Tag:noindex
X-PUBLISHED-TTL:PT1H
BEGIN:VTIMEZONE
TZID:UTC
BEGIN:STANDARD
TZOFFSETFROM:+0000
TZOFFSETTO:+0000
TZNAME:UTC
DTSTART:20250101T000000
END:STANDARD
END:VTIMEZONE
BEGIN:VEVENT
DTSTART;TZID=UTC:20260926T170000
DTEND;TZID=UTC:20260927T235500
DTSTAMP:20260424T010728
CREATED:20160721T150416Z
LAST-MODIFIED:20260126T181235Z
UID:18301-1790442000-1790553300@scrantonjcc.org
SUMMARY:Sukkot
DESCRIPTION:The JCC will is closed. Sukkot (sukkōt\, or sukkos\, Feast of Booths\, Feast of Tabernacles) is a Biblical holiday celebrated on the 15th day of the month of Tishrei (late September to late October). It is one of the three biblically mandated festivals Shalosh regalim on which Jews were commanded to make a pilgrimage to the Temple in Jerusalem.
URL:https://scrantonjcc.org/event/sukkot/
CATEGORIES:Holiday Schedule,JCC Hours / Closings,Jewish Holidays
ATTACH;FMTTYPE=image/jpeg:https://scrantonjcc.org/wp-content/uploads/2016/07/sukkot.jpg
END:VEVENT
END:VCALENDAR