BEGIN:VCALENDAR
VERSION:2.0
PRODID:-//Scranton JCC - ECPv6.15.20//NONSGML v1.0//EN
CALSCALE:GREGORIAN
METHOD:PUBLISH
X-ORIGINAL-URL:https://scrantonjcc.org
X-WR-CALDESC:Events for Scranton JCC
REFRESH-INTERVAL;VALUE=DURATION:PT1H
X-Robots-Tag:noindex
X-PUBLISHED-TTL:PT1H
BEGIN:VTIMEZONE
TZID:UTC
BEGIN:STANDARD
TZOFFSETFROM:+0000
TZOFFSETTO:+0000
TZNAME:UTC
DTSTART:20250101T000000
END:STANDARD
END:VTIMEZONE
BEGIN:VEVENT
DTSTART;VALUE=DATE:20260303
DTEND;VALUE=DATE:20260304
DTSTAMP:20260423T181902
CREATED:20220316T214135Z
LAST-MODIFIED:20250616T203912Z
UID:18802-1772496000-1772582399@scrantonjcc.org
SUMMARY:Purim
DESCRIPTION:The JCC is open.
URL:https://scrantonjcc.org/event/purim/
CATEGORIES:Holiday Schedule,JCC Hours / Closings,Jewish Holidays
ATTACH;FMTTYPE=image/png:https://scrantonjcc.org/wp-content/uploads/2017/01/purim.png
END:VEVENT
END:VCALENDAR