BEGIN:VCALENDAR
VERSION:2.0
PRODID:-//Scranton JCC - ECPv6.15.20//NONSGML v1.0//EN
CALSCALE:GREGORIAN
METHOD:PUBLISH
X-WR-CALNAME:Scranton JCC
X-ORIGINAL-URL:https://scrantonjcc.org
X-WR-CALDESC:Events for Scranton JCC
REFRESH-INTERVAL;VALUE=DURATION:PT1H
X-Robots-Tag:noindex
X-PUBLISHED-TTL:PT1H
BEGIN:VTIMEZONE
TZID:UTC
BEGIN:STANDARD
TZOFFSETFROM:+0000
TZOFFSETTO:+0000
TZNAME:UTC
DTSTART:20250101T000000
END:STANDARD
END:VTIMEZONE
BEGIN:VEVENT
DTSTART;TZID=UTC:20261002T170000
DTEND;TZID=UTC:20261003T235900
DTSTAMP:20260423T223527
CREATED:20190520T162755Z
LAST-MODIFIED:20260106T205113Z
UID:19691-1790960400-1791071940@scrantonjcc.org
SUMMARY:Shemini Atzeret
DESCRIPTION:The JCC closes at 5 pm.
URL:https://scrantonjcc.org/event/shemini-atzeret/
CATEGORIES:Holiday Schedule,JCC Hours / Closings,Jewish Holidays
ATTACH;FMTTYPE=image/jpeg:https://scrantonjcc.org/wp-content/uploads/2016/09/Shmini-Atzeret.jpg
END:VEVENT
BEGIN:VEVENT
DTSTART;VALUE=DATE:20261004
DTEND;VALUE=DATE:20261005
DTSTAMP:20260423T223527
CREATED:20160914T193729Z
LAST-MODIFIED:20260106T205916Z
UID:18597-1791072000-1791158399@scrantonjcc.org
SUMMARY:Simchat Torah
DESCRIPTION:The JCC is closed.
URL:https://scrantonjcc.org/event/simchat-torah/
CATEGORIES:Holiday Schedule,JCC Hours / Closings,Jewish Holidays
ATTACH;FMTTYPE=image/jpeg:https://scrantonjcc.org/wp-content/uploads/2016/09/simhat-torah.jpg
END:VEVENT
BEGIN:VEVENT
DTSTART;VALUE=DATE:20261012
DTEND;VALUE=DATE:20261013
DTSTAMP:20260423T223527
CREATED:20240724T174940Z
LAST-MODIFIED:20260106T204737Z
UID:23951-1791763200-1791849599@scrantonjcc.org
SUMMARY:Indigenous Peoples Day | Columbus Day
DESCRIPTION:The JCC is Open.
URL:https://scrantonjcc.org/event/indigenous-peoples-day-columbus-day/
CATEGORIES:JCC Hours / Closings
ATTACH;FMTTYPE=image/png:https://scrantonjcc.org/wp-content/uploads/2024/07/shalom-sprouts-1800x1800-1.png
END:VEVENT
BEGIN:VEVENT
DTSTART;VALUE=DATE:20261103
DTEND;VALUE=DATE:20261104
DTSTAMP:20260423T223527
CREATED:20260126T181733Z
LAST-MODIFIED:20260126T181733Z
UID:25647-1793664000-1793750399@scrantonjcc.org
SUMMARY:Election Day
DESCRIPTION:The JCC is Open
URL:https://scrantonjcc.org/event/election-day/
CATEGORIES:JCC Hours / Closings
ATTACH;FMTTYPE=image/png:https://scrantonjcc.org/wp-content/uploads/2026/01/Black-and-Red-Bold-Election-Day-Instagram-Post.png
END:VEVENT
BEGIN:VEVENT
DTSTART;VALUE=DATE:20261111
DTEND;VALUE=DATE:20261112
DTSTAMP:20260423T223527
CREATED:20160920T003309Z
LAST-MODIFIED:20260126T181801Z
UID:18621-1794355200-1794441599@scrantonjcc.org
SUMMARY:Veterans Day
DESCRIPTION:The JCC is Open
URL:https://scrantonjcc.org/event/veterans-day/
CATEGORIES:JCC Hours / Closings,National Holidays
ATTACH;FMTTYPE=image/png:https://scrantonjcc.org/wp-content/uploads/2016/09/Veterans-Day.png
END:VEVENT
BEGIN:VEVENT
DTSTART;TZID=UTC:20261126T080000
DTEND;TZID=UTC:20261126T130000
DTSTAMP:20260423T223527
CREATED:20160920T012904Z
LAST-MODIFIED:20260126T181833Z
UID:18624-1795680000-1795698000@scrantonjcc.org
SUMMARY:Thanksgiving
DESCRIPTION:JCC open as 8:00am and closes at 1:00pm
URL:https://scrantonjcc.org/event/thanksgiving/
CATEGORIES:Holiday Schedule,JCC Hours / Closings,National Holidays
ATTACH;FMTTYPE=image/png:https://scrantonjcc.org/wp-content/uploads/2016/09/Happy-Thanksgiving.png
END:VEVENT
BEGIN:VEVENT
DTSTART;VALUE=DATE:20261205
DTEND;VALUE=DATE:20261214
DTSTAMP:20260423T223527
CREATED:20160920T013707Z
LAST-MODIFIED:20260106T205751Z
UID:18632-1796428800-1797206399@scrantonjcc.org
SUMMARY:Chanukah
DESCRIPTION:The JCC is open for regular hours during Chanukah. \n 
URL:https://scrantonjcc.org/event/chanukah/
CATEGORIES:Holiday Schedule,JCC Hours / Closings,Jewish Holidays,National Holidays
ATTACH;FMTTYPE=image/png:https://scrantonjcc.org/wp-content/uploads/2016/09/Happy-Thanksgiving-2.png
END:VEVENT
BEGIN:VEVENT
DTSTART;TZID=UTC:20261224T053000
DTEND;TZID=UTC:20261224T130000
DTSTAMP:20260423T223527
CREATED:20160920T013206Z
LAST-MODIFIED:20260106T205619Z
UID:18627-1798090200-1798117200@scrantonjcc.org
SUMMARY:Christmas Eve (Early Closing)
DESCRIPTION:The JCC is open 5.30am – 1pm.
URL:https://scrantonjcc.org/event/christmas-eve/
CATEGORIES:JCC Hours / Closings
ATTACH;FMTTYPE=image/png:https://scrantonjcc.org/wp-content/uploads/2016/09/NEW-at-the-J-Baby-Me-Swim-Fall-2022-1800-×-1800-px-1.png
END:VEVENT
BEGIN:VEVENT
DTSTART;TZID=UTC:20261225T080000
DTEND;TZID=UTC:20261225T130000
DTSTAMP:20260423T223527
CREATED:20160920T013258Z
LAST-MODIFIED:20260106T205542Z
UID:18630-1798185600-1798203600@scrantonjcc.org
SUMMARY:Christmas
DESCRIPTION:The JCC is open from 8 AM to 1 PM
URL:https://scrantonjcc.org/event/christmas/
CATEGORIES:Holiday Schedule,JCC Hours / Closings,National Holidays
ATTACH;FMTTYPE=image/png:https://scrantonjcc.org/wp-content/uploads/2016/09/IG-Chanukah-1.png
END:VEVENT
BEGIN:VEVENT
DTSTART;TZID=UTC:20261231T053000
DTEND;TZID=UTC:20261231T130000
DTSTAMP:20260423T223527
CREATED:20160920T145201Z
LAST-MODIFIED:20260106T205449Z
UID:18637-1798695000-1798722000@scrantonjcc.org
SUMMARY:New Year's Eve
DESCRIPTION:Wishing our members and community a very happy and healthy new year! \nThe JCC is open from 5:30 AM – 1:00 PM.
URL:https://scrantonjcc.org/event/new-years-eve/
CATEGORIES:Holiday Schedule,JCC Hours / Closings,National Holidays
END:VEVENT
BEGIN:VEVENT
DTSTART;TZID=UTC:20270101T080000
DTEND;TZID=UTC:20270101T130000
DTSTAMP:20260423T223527
CREATED:20160930T141541Z
LAST-MODIFIED:20260106T205400Z
UID:18703-1798790400-1798808400@scrantonjcc.org
SUMMARY:New Year's Day
DESCRIPTION:Wishing all a Happy New Year! JCC is open 8 AM – 1 PM.
URL:https://scrantonjcc.org/event/new-years-day/
CATEGORIES:Holiday Schedule,JCC Hours / Closings,National Holidays
END:VEVENT
BEGIN:VEVENT
DTSTART;VALUE=DATE:20270118
DTEND;VALUE=DATE:20270119
DTSTAMP:20260423T223527
CREATED:20160930T141646Z
LAST-MODIFIED:20260126T182250Z
UID:18705-1800230400-1800316799@scrantonjcc.org
SUMMARY:Martin Luther King Jr. Day
DESCRIPTION:The JCC is open
URL:https://scrantonjcc.org/event/martin-luther-king-jr-day/
CATEGORIES:JCC Hours / Closings,National Holidays
ATTACH;FMTTYPE=image/jpeg:https://scrantonjcc.org/wp-content/uploads/2016/09/MLK-Let-Freedom-Ring.jpg
END:VEVENT
END:VCALENDAR