BEGIN:VCALENDAR
VERSION:2.0
PRODID:-//Scranton JCC - ECPv6.15.20//NONSGML v1.0//EN
CALSCALE:GREGORIAN
METHOD:PUBLISH
X-ORIGINAL-URL:https://scrantonjcc.org
X-WR-CALDESC:Events for Scranton JCC
REFRESH-INTERVAL;VALUE=DURATION:PT1H
X-Robots-Tag:noindex
X-PUBLISHED-TTL:PT1H
BEGIN:VTIMEZONE
TZID:UTC
BEGIN:STANDARD
TZOFFSETFROM:+0000
TZOFFSETTO:+0000
TZNAME:UTC
DTSTART:20250101T000000
END:STANDARD
END:VTIMEZONE
BEGIN:VEVENT
DTSTART;TZID=UTC:20260405T080000
DTEND;TZID=UTC:20260405T130000
DTSTAMP:20260423T182153
CREATED:20240724T180717Z
LAST-MODIFIED:20260106T210703Z
UID:23957-1775376000-1775394000@scrantonjcc.org
SUMMARY:Easter
DESCRIPTION:The JCC will be open from 8:00 am to 1pm
URL:https://scrantonjcc.org/event/easter/
CATEGORIES:Holiday Schedule,JCC Hours / Closings
END:VEVENT
END:VCALENDAR