BEGIN:VCALENDAR
VERSION:2.0
PRODID:-//Scranton JCC - ECPv6.15.20//NONSGML v1.0//EN
CALSCALE:GREGORIAN
METHOD:PUBLISH
X-WR-CALNAME:Scranton JCC
X-ORIGINAL-URL:https://scrantonjcc.org
X-WR-CALDESC:Events for Scranton JCC
REFRESH-INTERVAL;VALUE=DURATION:PT1H
X-Robots-Tag:noindex
X-PUBLISHED-TTL:PT1H
BEGIN:VTIMEZONE
TZID:UTC
BEGIN:STANDARD
TZOFFSETFROM:+0000
TZOFFSETTO:+0000
TZNAME:UTC
DTSTART:20250101T000000
END:STANDARD
END:VTIMEZONE
BEGIN:VEVENT
DTSTART;VALUE=DATE:20260402
DTEND;VALUE=DATE:20260404
DTSTAMP:20260423T182138
CREATED:20210327T050043Z
LAST-MODIFIED:20250616T210005Z
UID:18814-1775088000-1775260799@scrantonjcc.org
SUMMARY:Passover (JCC Closed)
DESCRIPTION:
URL:https://scrantonjcc.org/event/passover-2/
CATEGORIES:Holiday Schedule,JCC Hours / Closings,Jewish Holidays
ATTACH;FMTTYPE=image/jpeg:https://scrantonjcc.org/wp-content/uploads/2017/01/Passover.jpg
END:VEVENT
END:VCALENDAR