BEGIN:VCALENDAR
VERSION:2.0
PRODID:-//Scranton JCC - ECPv6.15.20//NONSGML v1.0//EN
CALSCALE:GREGORIAN
METHOD:PUBLISH
X-WR-CALNAME:Scranton JCC
X-ORIGINAL-URL:https://scrantonjcc.org
X-WR-CALDESC:Events for Scranton JCC
REFRESH-INTERVAL;VALUE=DURATION:PT1H
X-Robots-Tag:noindex
X-PUBLISHED-TTL:PT1H
BEGIN:VTIMEZONE
TZID:UTC
BEGIN:STANDARD
TZOFFSETFROM:+0000
TZOFFSETTO:+0000
TZNAME:UTC
DTSTART:20250101T000000
END:STANDARD
END:VTIMEZONE
BEGIN:VEVENT
DTSTART;TZID=UTC:20260401T053000
DTEND;TZID=UTC:20260401T150000
DTSTAMP:20260423T182138
CREATED:20170101T214302Z
LAST-MODIFIED:20250616T205920Z
UID:18805-1775021400-1775055600@scrantonjcc.org
SUMMARY:Erev Passover (JCC Closes 3pm)
DESCRIPTION:The JCC will close at 3pm.
URL:https://scrantonjcc.org/event/erev-passover/
CATEGORIES:Holiday Schedule,JCC Hours / Closings,Jewish Holidays
ATTACH;FMTTYPE=image/jpeg:https://scrantonjcc.org/wp-content/uploads/2017/01/Passover.jpg
END:VEVENT
END:VCALENDAR